Package: GeneSelectMMD Version: 2.44.1 Command: /home/biocbuild/bbs-3.17-bioc/R/bin/R CMD INSTALL GeneSelectMMD StartedAt: 2023-10-15 15:10:52 -0400 (Sun, 15 Oct 2023) EndedAt: 2023-10-15 15:10:58 -0400 (Sun, 15 Oct 2023) EllapsedTime: 6.1 seconds RetCode: 0 Status: OK