Package: GeneSelectMMD Version: 2.44.1 Command: /home/biocbuild/bbs-3.17-bioc/R/bin/R CMD build --keep-empty-dirs --no-resave-data GeneSelectMMD StartedAt: 2023-10-15 16:53:57 -0400 (Sun, 15 Oct 2023) EndedAt: 2023-10-15 16:54:09 -0400 (Sun, 15 Oct 2023) EllapsedTime: 11.2 seconds RetCode: 0 Status: OK PackageFile: GeneSelectMMD_2.44.1.tar.gz PackageFileSize: 310.9 KiB