Package: GeneSelectMMD Version: 2.44.1 Command: /Library/Frameworks/R.framework/Resources/bin/R CMD INSTALL GeneSelectMMD StartedAt: 2023-10-15 15:09:20 -0400 (Sun, 15 Oct 2023) EndedAt: 2023-10-15 15:09:55 -0400 (Sun, 15 Oct 2023) EllapsedTime: 35.8 seconds RetCode: 0 Status: OK