Package: GeneSelectMMD Version: 2.44.1 Command: /Library/Frameworks/R.framework/Resources/bin/R CMD check --install=check:GeneSelectMMD.install-out.txt --library=/Library/Frameworks/R.framework/Resources/library --no-vignettes --timings GeneSelectMMD_2.44.1.tar.gz StartedAt: 2023-10-16 01:59:52 -0400 (Mon, 16 Oct 2023) EndedAt: 2023-10-16 02:01:15 -0400 (Mon, 16 Oct 2023) EllapsedTime: 83.4 seconds RetCode: 0 Status: WARNINGS CheckDir: GeneSelectMMD.Rcheck Warnings: 1