Package: GeneSelectMMD Version: 2.44.1 Command: rm -rf GeneSelectMMD.buildbin-libdir && mkdir GeneSelectMMD.buildbin-libdir && /Users/biocbuild/BBS/utils/build-universal.sh GeneSelectMMD_2.44.1.tar.gz /Library/Frameworks/R.framework/Resources/bin/R GeneSelectMMD.buildbin-libdir StartedAt: 2023-10-16 09:27:15 -0400 (Mon, 16 Oct 2023) EndedAt: 2023-10-16 09:27:44 -0400 (Mon, 16 Oct 2023) EllapsedTime: 28.9 seconds RetCode: 0 Status: OK PackageFile: GeneSelectMMD_2.44.1.tgz PackageFileSize: 548.6 KiB