Package: GeneRegionScan Version: 1.56.0 Command: chmod a+r GeneRegionScan -R && F:\biocbuild\bbs-3.17-bioc\R\bin\R.exe CMD build --keep-empty-dirs --no-resave-data GeneRegionScan StartedAt: 2023-10-15 19:26:25 -0400 (Sun, 15 Oct 2023) EndedAt: 2023-10-15 19:27:07 -0400 (Sun, 15 Oct 2023) EllapsedTime: 42.4 seconds RetCode: 0 Status: OK PackageFile: GeneRegionScan_1.56.0.tar.gz PackageFileSize: 7.391 MiB