Package: GeneRegionScan Version: 1.56.0 Command: /Library/Frameworks/R.framework/Resources/bin/R CMD check --install=check:GeneRegionScan.install-out.txt --library=/Library/Frameworks/R.framework/Resources/library --no-vignettes --timings GeneRegionScan_1.56.0.tar.gz StartedAt: 2023-10-16 01:59:12 -0400 (Mon, 16 Oct 2023) EndedAt: 2023-10-16 02:05:46 -0400 (Mon, 16 Oct 2023) EllapsedTime: 394.7 seconds RetCode: 0 Status: OK CheckDir: GeneRegionScan.Rcheck Warnings: 0