Package: GeneOverlap Version: 1.36.0 Command: F:\biocbuild\bbs-3.17-bioc\R\bin\R.exe CMD INSTALL GeneOverlap StartedAt: 2023-10-15 15:50:38 -0400 (Sun, 15 Oct 2023) EndedAt: 2023-10-15 15:50:48 -0400 (Sun, 15 Oct 2023) EllapsedTime: 10.4 seconds RetCode: 0 Status: OK