Package: GeneOverlap Version: 1.36.0 Command: /home/biocbuild/bbs-3.17-bioc/R/bin/R CMD check --install=check:GeneOverlap.install-out.txt --library=/home/biocbuild/bbs-3.17-bioc/R/site-library --timings GeneOverlap_1.36.0.tar.gz StartedAt: 2023-10-15 21:31:48 -0400 (Sun, 15 Oct 2023) EndedAt: 2023-10-15 21:32:14 -0400 (Sun, 15 Oct 2023) EllapsedTime: 26.0 seconds RetCode: 0 Status: OK CheckDir: GeneOverlap.Rcheck Warnings: 0