Package: GeneOverlap Version: 1.36.0 Command: /Library/Frameworks/R.framework/Resources/bin/R CMD build --keep-empty-dirs --no-resave-data GeneOverlap StartedAt: 2023-10-15 18:29:25 -0400 (Sun, 15 Oct 2023) EndedAt: 2023-10-15 18:29:50 -0400 (Sun, 15 Oct 2023) EllapsedTime: 25.9 seconds RetCode: 0 Status: OK PackageFile: GeneOverlap_1.36.0.tar.gz PackageFileSize: 360.8 KiB