Package: GeneOverlap Version: 1.36.0 Command: rm -rf GeneOverlap.buildbin-libdir && mkdir GeneOverlap.buildbin-libdir && /Users/biocbuild/BBS/utils/build-universal.sh GeneOverlap_1.36.0.tar.gz /Library/Frameworks/R.framework/Resources/bin/R GeneOverlap.buildbin-libdir StartedAt: 2023-10-16 09:27:07 -0400 (Mon, 16 Oct 2023) EndedAt: 2023-10-16 09:27:18 -0400 (Mon, 16 Oct 2023) EllapsedTime: 11.7 seconds RetCode: 0 Status: OK PackageFile: GeneOverlap_1.36.0.tgz PackageFileSize: 540.1 KiB