Package: GeneNetworkBuilder Version: 1.42.0 Command: F:\biocbuild\bbs-3.17-bioc\R\bin\R.exe CMD INSTALL GeneNetworkBuilder StartedAt: 2023-10-15 16:20:01 -0400 (Sun, 15 Oct 2023) EndedAt: 2023-10-15 16:20:33 -0400 (Sun, 15 Oct 2023) EllapsedTime: 31.4 seconds RetCode: 0 Status: OK