Package: GeneNetworkBuilder Version: 1.42.0 Command: F:\biocbuild\bbs-3.17-bioc\R\bin\R.exe CMD check --no-multiarch --install=check:GeneNetworkBuilder.install-out.txt --library=F:\biocbuild\bbs-3.17-bioc\R\library --no-vignettes --timings GeneNetworkBuilder_1.42.0.tar.gz StartedAt: 2023-10-16 02:26:37 -0400 (Mon, 16 Oct 2023) EndedAt: 2023-10-16 02:27:56 -0400 (Mon, 16 Oct 2023) EllapsedTime: 79.4 seconds RetCode: 0 Status: OK CheckDir: GeneNetworkBuilder.Rcheck Warnings: 0