Package: GeneNetworkBuilder Version: 1.42.0 Command: chmod a+r GeneNetworkBuilder -R && F:\biocbuild\bbs-3.17-bioc\R\bin\R.exe CMD build --keep-empty-dirs --no-resave-data GeneNetworkBuilder StartedAt: 2023-10-15 19:25:58 -0400 (Sun, 15 Oct 2023) EndedAt: 2023-10-15 19:32:51 -0400 (Sun, 15 Oct 2023) EllapsedTime: 413.1 seconds RetCode: 0 Status: OK PackageFile: GeneNetworkBuilder_1.42.0.tar.gz PackageFileSize: 8.514 MiB