Package: GeneNetworkBuilder Version: 1.42.0 Command: rm -rf GeneNetworkBuilder.buildbin-libdir && mkdir GeneNetworkBuilder.buildbin-libdir && F:\biocbuild\bbs-3.17-bioc\R\bin\R.exe CMD INSTALL --build --library=GeneNetworkBuilder.buildbin-libdir GeneNetworkBuilder_1.42.0.tar.gz StartedAt: 2023-10-16 08:50:34 -0400 (Mon, 16 Oct 2023) EndedAt: 2023-10-16 08:51:11 -0400 (Mon, 16 Oct 2023) EllapsedTime: 37.2 seconds RetCode: 0 Status: OK PackageFile: GeneNetworkBuilder_1.42.0.zip PackageFileSize: 9.138 MiB