Package: GeneNetworkBuilder Version: 1.42.0 Command: /home/biocbuild/bbs-3.17-bioc/R/bin/R CMD INSTALL GeneNetworkBuilder StartedAt: 2023-10-15 15:26:08 -0400 (Sun, 15 Oct 2023) EndedAt: 2023-10-15 15:26:27 -0400 (Sun, 15 Oct 2023) EllapsedTime: 18.5 seconds RetCode: 0 Status: OK