Package: GeneNetworkBuilder Version: 1.42.0 Command: /home/biocbuild/bbs-3.17-bioc/R/bin/R CMD check --install=check:GeneNetworkBuilder.install-out.txt --library=/home/biocbuild/bbs-3.17-bioc/R/site-library --timings GeneNetworkBuilder_1.42.0.tar.gz StartedAt: 2023-10-15 21:31:47 -0400 (Sun, 15 Oct 2023) EndedAt: 2023-10-15 21:41:37 -0400 (Sun, 15 Oct 2023) EllapsedTime: 590.7 seconds RetCode: 0 Status: OK CheckDir: GeneNetworkBuilder.Rcheck Warnings: 0