Package: GeneNetworkBuilder Version: 1.42.0 Command: rm -rf GeneNetworkBuilder.buildbin-libdir && mkdir GeneNetworkBuilder.buildbin-libdir && /Users/biocbuild/BBS/utils/build-universal.sh GeneNetworkBuilder_1.42.0.tar.gz /Library/Frameworks/R.framework/Resources/bin/R GeneNetworkBuilder.buildbin-libdir StartedAt: 2023-10-16 09:27:04 -0400 (Mon, 16 Oct 2023) EndedAt: 2023-10-16 09:28:19 -0400 (Mon, 16 Oct 2023) EllapsedTime: 74.1 seconds RetCode: 0 Status: OK PackageFile: GeneNetworkBuilder_1.42.0.tgz PackageFileSize: 8.905 MiB