Package: GeneMeta Version: 1.72.0 Command: /home/biocbuild/bbs-3.17-bioc/R/bin/R CMD check --install=check:GeneMeta.install-out.txt --library=/home/biocbuild/bbs-3.17-bioc/R/site-library --timings GeneMeta_1.72.0.tar.gz StartedAt: 2023-10-15 21:31:37 -0400 (Sun, 15 Oct 2023) EndedAt: 2023-10-15 21:33:22 -0400 (Sun, 15 Oct 2023) EllapsedTime: 104.9 seconds RetCode: 0 Status: OK CheckDir: GeneMeta.Rcheck Warnings: 0