Package: GeneMeta Version: 1.72.0 Command: rm -rf GeneMeta.buildbin-libdir && mkdir GeneMeta.buildbin-libdir && /Users/biocbuild/BBS/utils/build-universal.sh GeneMeta_1.72.0.tar.gz /Library/Frameworks/R.framework/Resources/bin/R GeneMeta.buildbin-libdir StartedAt: 2023-10-16 09:27:02 -0400 (Mon, 16 Oct 2023) EndedAt: 2023-10-16 09:28:06 -0400 (Mon, 16 Oct 2023) EllapsedTime: 64.0 seconds RetCode: 0 Status: OK PackageFile: GeneMeta_1.72.0.tgz PackageFileSize: 2.738 MiB