Package: GeneGA Version: 1.50.0 Command: /Library/Frameworks/R.framework/Resources/bin/R CMD check --install=check:GeneGA.install-out.txt --library=/Library/Frameworks/R.framework/Resources/library --no-vignettes --timings GeneGA_1.50.0.tar.gz StartedAt: 2023-10-16 01:57:51 -0400 (Mon, 16 Oct 2023) EndedAt: 2023-10-16 02:04:49 -0400 (Mon, 16 Oct 2023) EllapsedTime: 417.3 seconds RetCode: 0 Status: OK CheckDir: GeneGA.Rcheck Warnings: 0