Package: GeneGA Version: 1.50.0 Command: /Library/Frameworks/R.framework/Resources/bin/R CMD build --keep-empty-dirs --no-resave-data GeneGA StartedAt: 2023-10-15 18:29:00 -0400 (Sun, 15 Oct 2023) EndedAt: 2023-10-15 18:32:59 -0400 (Sun, 15 Oct 2023) EllapsedTime: 239.0 seconds RetCode: 0 Status: OK PackageFile: GeneGA_1.50.0.tar.gz PackageFileSize: 228.6 KiB