Package: GeneAccord Version: 1.18.0 Command: /Library/Frameworks/R.framework/Resources/bin/R CMD INSTALL GeneAccord StartedAt: 2023-10-15 16:22:33 -0400 (Sun, 15 Oct 2023) EndedAt: 2023-10-15 16:23:43 -0400 (Sun, 15 Oct 2023) EllapsedTime: 69.6 seconds RetCode: 0 Status: OK