Package: GeneAccord Version: 1.17.0 Command: rm -rf GeneAccord.buildbin-libdir && mkdir GeneAccord.buildbin-libdir && /Users/biocbuild/BBS/utils/build-universal.sh GeneAccord_1.17.0.tar.gz /Library/Frameworks/R.framework/Resources/bin/R GeneAccord.buildbin-libdir StartedAt: 2022-11-09 09:00:26 -0500 (Wed, 09 Nov 2022) EndedAt: 2022-11-09 09:01:41 -0500 (Wed, 09 Nov 2022) EllapsedTime: 75.1 seconds RetCode: 0 Status: OK PackageFile: GeneAccord_1.17.0.tgz PackageFileSize: 3.482 MiB