Package: GenVisR Version: 1.32.0 Command: chmod a+r GenVisR -R && F:\biocbuild\bbs-3.17-bioc\R\bin\R.exe CMD build --keep-empty-dirs --no-resave-data GenVisR StartedAt: 2023-10-15 19:30:10 -0400 (Sun, 15 Oct 2023) EndedAt: 2023-10-15 19:34:25 -0400 (Sun, 15 Oct 2023) EllapsedTime: 255.4 seconds RetCode: 0 Status: OK PackageFile: GenVisR_1.32.0.tar.gz PackageFileSize: 4.669 MiB