Package: GenVisR Version: 1.32.0 Command: rm -rf GenVisR.buildbin-libdir && mkdir GenVisR.buildbin-libdir && F:\biocbuild\bbs-3.17-bioc\R\bin\R.exe CMD INSTALL --build --library=GenVisR.buildbin-libdir GenVisR_1.32.0.tar.gz StartedAt: 2023-10-16 08:51:57 -0400 (Mon, 16 Oct 2023) EndedAt: 2023-10-16 08:53:05 -0400 (Mon, 16 Oct 2023) EllapsedTime: 68.7 seconds RetCode: 0 Status: OK PackageFile: GenVisR_1.32.0.zip PackageFileSize: 3.758 MiB