Package: GenVisR Version: 1.32.0 Command: /home/biocbuild/bbs-3.17-bioc/R/bin/R CMD INSTALL GenVisR StartedAt: 2023-10-15 15:23:35 -0400 (Sun, 15 Oct 2023) EndedAt: 2023-10-15 15:24:23 -0400 (Sun, 15 Oct 2023) EllapsedTime: 48.0 seconds RetCode: 0 Status: OK