Package: GenVisR Version: 1.32.0 Command: /Library/Frameworks/R.framework/Resources/bin/R CMD check --install=check:GenVisR.install-out.txt --library=/Library/Frameworks/R.framework/Resources/library --no-vignettes --timings GenVisR_1.32.0.tar.gz StartedAt: 2023-10-16 02:07:15 -0400 (Mon, 16 Oct 2023) EndedAt: 2023-10-16 02:31:45 -0400 (Mon, 16 Oct 2023) EllapsedTime: 1470.1 seconds RetCode: 1 Status: ERROR CheckDir: GenVisR.Rcheck Warnings: NA