Package: GenProSeq Version: 1.4.2 Command: F:\biocbuild\bbs-3.17-bioc\R\bin\R.exe CMD INSTALL GenProSeq StartedAt: 2023-10-15 17:00:43 -0400 (Sun, 15 Oct 2023) EndedAt: 2023-10-15 17:00:59 -0400 (Sun, 15 Oct 2023) EllapsedTime: 15.6 seconds RetCode: 0 Status: OK