Package: GenProSeq Version: 1.4.2 Command: rm -rf GenProSeq.buildbin-libdir && mkdir GenProSeq.buildbin-libdir && F:\biocbuild\bbs-3.17-bioc\R\bin\R.exe CMD INSTALL --build --library=GenProSeq.buildbin-libdir GenProSeq_1.4.2.tar.gz StartedAt: 2023-10-16 08:51:55 -0400 (Mon, 16 Oct 2023) EndedAt: 2023-10-16 08:52:14 -0400 (Mon, 16 Oct 2023) EllapsedTime: 19.0 seconds RetCode: 0 Status: OK PackageFile: GenProSeq_1.4.2.zip PackageFileSize: 1.048 MiB