Package: GenProSeq Version: 1.4.2 Command: /home/biocbuild/bbs-3.17-bioc/R/bin/R CMD check --install=check:GenProSeq.install-out.txt --library=/home/biocbuild/bbs-3.17-bioc/R/site-library --timings GenProSeq_1.4.2.tar.gz StartedAt: 2023-10-15 21:37:23 -0400 (Sun, 15 Oct 2023) EndedAt: 2023-10-15 21:42:37 -0400 (Sun, 15 Oct 2023) EllapsedTime: 314.4 seconds RetCode: 0 Status: OK CheckDir: GenProSeq.Rcheck Warnings: 0