Package: GenProSeq Version: 1.4.2 Command: /Library/Frameworks/R.framework/Resources/bin/R CMD INSTALL GenProSeq StartedAt: 2023-10-15 16:27:53 -0400 (Sun, 15 Oct 2023) EndedAt: 2023-10-15 16:28:31 -0400 (Sun, 15 Oct 2023) EllapsedTime: 37.2 seconds RetCode: 0 Status: OK