Package: GenProSeq Version: 1.4.2 Command: /Library/Frameworks/R.framework/Resources/bin/R CMD check --install=check:GenProSeq.install-out.txt --library=/Library/Frameworks/R.framework/Resources/library --no-vignettes --timings GenProSeq_1.4.2.tar.gz StartedAt: 2023-10-16 02:07:14 -0400 (Mon, 16 Oct 2023) EndedAt: 2023-10-16 02:16:39 -0400 (Mon, 16 Oct 2023) EllapsedTime: 565.7 seconds RetCode: 0 Status: OK CheckDir: GenProSeq.Rcheck Warnings: 0