Package: GenProSeq Version: 1.4.2 Command: /Library/Frameworks/R.framework/Resources/bin/R CMD build --keep-empty-dirs --no-resave-data GenProSeq StartedAt: 2023-10-15 18:33:22 -0400 (Sun, 15 Oct 2023) EndedAt: 2023-10-15 18:37:40 -0400 (Sun, 15 Oct 2023) EllapsedTime: 257.8 seconds RetCode: 0 Status: OK PackageFile: GenProSeq_1.4.2.tar.gz PackageFileSize: 1.864 MiB