Package: GenProSeq Version: 1.4.2 Command: rm -rf GenProSeq.buildbin-libdir && mkdir GenProSeq.buildbin-libdir && /Users/biocbuild/BBS/utils/build-universal.sh GenProSeq_1.4.2.tar.gz /Library/Frameworks/R.framework/Resources/bin/R GenProSeq.buildbin-libdir StartedAt: 2023-10-16 09:28:32 -0400 (Mon, 16 Oct 2023) EndedAt: 2023-10-16 09:29:13 -0400 (Mon, 16 Oct 2023) EllapsedTime: 40.8 seconds RetCode: 0 Status: OK PackageFile: GenProSeq_1.4.2.tgz PackageFileSize: 1.139 MiB