Package: GateFinder Version: 1.20.0 Command: /home/biocbuild/bbs-3.17-bioc/R/bin/R CMD build --keep-empty-dirs --no-resave-data GateFinder StartedAt: 2023-10-15 16:52:08 -0400 (Sun, 15 Oct 2023) EndedAt: 2023-10-15 16:52:26 -0400 (Sun, 15 Oct 2023) EllapsedTime: 17.8 seconds RetCode: 0 Status: OK PackageFile: GateFinder_1.20.0.tar.gz PackageFileSize: 480 KiB