Package: GWENA Version: 1.10.0 Command: /home/biocbuild/bbs-3.17-bioc/R/bin/R CMD INSTALL GWENA StartedAt: 2023-10-15 15:33:59 -0400 (Sun, 15 Oct 2023) EndedAt: 2023-10-15 15:34:33 -0400 (Sun, 15 Oct 2023) EllapsedTime: 33.6 seconds RetCode: 0 Status: OK