Package: GWENA Version: 1.10.0 Command: /home/biocbuild/bbs-3.17-bioc/R/bin/R CMD build --keep-empty-dirs --no-resave-data GWENA StartedAt: 2023-10-15 17:04:16 -0400 (Sun, 15 Oct 2023) EndedAt: 2023-10-15 17:06:04 -0400 (Sun, 15 Oct 2023) EllapsedTime: 107.9 seconds RetCode: 0 Status: OK PackageFile: GWENA_1.10.0.tar.gz PackageFileSize: 4.583 MiB