Package: GWENA Version: 1.10.0 Command: /Library/Frameworks/R.framework/Resources/bin/R CMD INSTALL GWENA StartedAt: 2023-10-15 15:58:57 -0400 (Sun, 15 Oct 2023) EndedAt: 2023-10-15 16:00:44 -0400 (Sun, 15 Oct 2023) EllapsedTime: 107.1 seconds RetCode: 0 Status: OK