Package: GWASTools Version: 1.46.0 Command: F:\biocbuild\bbs-3.17-bioc\R\bin\R.exe CMD check --no-multiarch --install=check:GWASTools.install-out.txt --library=F:\biocbuild\bbs-3.17-bioc\R\library --no-vignettes --timings GWASTools_1.46.0.tar.gz StartedAt: 2023-10-16 02:56:36 -0400 (Mon, 16 Oct 2023) EndedAt: 2023-10-16 03:01:27 -0400 (Mon, 16 Oct 2023) EllapsedTime: 290.7 seconds RetCode: 0 Status: OK CheckDir: GWASTools.Rcheck Warnings: 0