Package: GWASTools Version: 1.46.0 Command: chmod a+r GWASTools -R && F:\biocbuild\bbs-3.17-bioc\R\bin\R.exe CMD build --keep-empty-dirs --no-resave-data GWASTools StartedAt: 2023-10-15 19:45:31 -0400 (Sun, 15 Oct 2023) EndedAt: 2023-10-15 19:46:45 -0400 (Sun, 15 Oct 2023) EllapsedTime: 74.3 seconds RetCode: 0 Status: OK PackageFile: GWASTools_1.46.0.tar.gz PackageFileSize: 1.573 MiB