Package: GSgalgoR Version: 1.10.0 Command: /home/biocbuild/bbs-3.17-bioc/R/bin/R CMD check --install=check:GSgalgoR.install-out.txt --library=/home/biocbuild/bbs-3.17-bioc/R/site-library --timings GSgalgoR_1.10.0.tar.gz StartedAt: 2023-10-15 21:53:13 -0400 (Sun, 15 Oct 2023) EndedAt: 2023-10-15 21:57:58 -0400 (Sun, 15 Oct 2023) EllapsedTime: 285.8 seconds RetCode: 0 Status: OK CheckDir: GSgalgoR.Rcheck Warnings: 0