Package: GSgalgoR Version: 1.10.0 Command: /Library/Frameworks/R.framework/Resources/bin/R CMD INSTALL GSgalgoR StartedAt: 2023-10-15 15:58:34 -0400 (Sun, 15 Oct 2023) EndedAt: 2023-10-15 15:58:41 -0400 (Sun, 15 Oct 2023) EllapsedTime: 6.7 seconds RetCode: 0 Status: OK