Package: GSVA Version: 1.48.3 Command: F:\biocbuild\bbs-3.17-bioc\R\bin\R.exe CMD check --no-multiarch --install=check:GSVA.install-out.txt --library=F:\biocbuild\bbs-3.17-bioc\R\library --no-vignettes --timings GSVA_1.48.3.tar.gz StartedAt: 2023-10-16 02:54:38 -0400 (Mon, 16 Oct 2023) EndedAt: 2023-10-16 02:59:12 -0400 (Mon, 16 Oct 2023) EllapsedTime: 274.4 seconds RetCode: 0 Status: OK CheckDir: GSVA.Rcheck Warnings: 0