Package: GSVA Version: 1.48.3 Command: rm -rf GSVA.buildbin-libdir && mkdir GSVA.buildbin-libdir && F:\biocbuild\bbs-3.17-bioc\R\bin\R.exe CMD INSTALL --build --library=GSVA.buildbin-libdir GSVA_1.48.3.tar.gz StartedAt: 2023-10-16 08:54:47 -0400 (Mon, 16 Oct 2023) EndedAt: 2023-10-16 08:55:31 -0400 (Mon, 16 Oct 2023) EllapsedTime: 44.7 seconds RetCode: 0 Status: OK PackageFile: GSVA_1.48.3.zip PackageFileSize: 1.514 MiB