Package: GSVA Version: 1.48.3 Command: /home/biocbuild/bbs-3.17-bioc/R/bin/R CMD INSTALL GSVA StartedAt: 2023-10-15 15:41:38 -0400 (Sun, 15 Oct 2023) EndedAt: 2023-10-15 15:42:11 -0400 (Sun, 15 Oct 2023) EllapsedTime: 33.4 seconds RetCode: 0 Status: OK