Package: GSVA Version: 1.48.3 Command: /home/biocbuild/bbs-3.17-bioc/R/bin/R CMD check --install=check:GSVA.install-out.txt --library=/home/biocbuild/bbs-3.17-bioc/R/site-library --timings GSVA_1.48.3.tar.gz StartedAt: 2023-10-15 21:53:49 -0400 (Sun, 15 Oct 2023) EndedAt: 2023-10-15 22:01:25 -0400 (Sun, 15 Oct 2023) EllapsedTime: 456.0 seconds RetCode: 0 Status: OK CheckDir: GSVA.Rcheck Warnings: 0