Package: GSVA Version: 1.48.3 Command: /Library/Frameworks/R.framework/Resources/bin/R CMD INSTALL GSVA StartedAt: 2023-10-15 16:15:47 -0400 (Sun, 15 Oct 2023) EndedAt: 2023-10-15 16:17:42 -0400 (Sun, 15 Oct 2023) EllapsedTime: 114.9 seconds RetCode: 0 Status: OK