Package: GSRI Version: 2.48.0 Command: chmod a+r GSRI -R && F:\biocbuild\bbs-3.17-bioc\R\bin\R.exe CMD build --keep-empty-dirs --no-resave-data GSRI StartedAt: 2023-10-15 19:44:17 -0400 (Sun, 15 Oct 2023) EndedAt: 2023-10-15 19:45:12 -0400 (Sun, 15 Oct 2023) EllapsedTime: 55.1 seconds RetCode: 0 Status: OK PackageFile: GSRI_2.48.0.tar.gz PackageFileSize: 208.5 KiB