Package: GSRI Version: 2.48.0 Command: /home/biocbuild/bbs-3.17-bioc/R/bin/R CMD build --keep-empty-dirs --no-resave-data GSRI StartedAt: 2023-10-15 17:03:04 -0400 (Sun, 15 Oct 2023) EndedAt: 2023-10-15 17:03:48 -0400 (Sun, 15 Oct 2023) EllapsedTime: 43.9 seconds RetCode: 0 Status: OK PackageFile: GSRI_2.48.0.tar.gz PackageFileSize: 206.7 KiB